BEGIN:VCALENDAR
VERSION:2.0
PRODID:https://zlev.de
METHOD:PUBLISH
BEGIN:VEVENT
SUMMARY:Cine Mir: "Schildkröten können fliegen"
UID:page://gvxy6ldrf03t6ou8
DTSTAMP:20260420T010526Z
LAST-MODIFIED:20260420T010526Z
SEQUENCE:7
STATUS:CONFIRMED
DTSTART:20260429T170000Z
DTEND:20260429T193000Z
LOCATION:zuka solicafé im Haus der Jugend, Uhlandstraße 2, 79102 Freibur
 g
DESCRIPTION:(image: cine-mir-april.jpg width:100%)\nRegie: Bahman Ghobadi 
 | Drama | Iran\, Irak 2004 | OmU | 98 Min.\nDer Film Schildkröten können
  fliegen erzählt die bewegende Geschichte einer Gruppe kurdischer Kinder 
 im Nordirak – kurz vor dem Beginn des Irakkriegs 2003. Im Mittelpunkt st
 eht der Junge „Satellite“\, der mit Organisationstalent und großem Ü
 berlebenswillen versucht\, den Alltag im Flüchtlingslager zu meistern.\nG
 emeinsam mit anderen Kindern sammelt er Minen\, um sie zu verkaufen – ei
 n gefährliches Spiel zwischen Hoffnung und Realität. Die Begegnung mit e
 inem geheimnisvollen Mädchen und ihrem kleinen Bruder bringt neue Fragen\
 , Traumata und leise Hoffnungen in ihr Leben. Der Film zeigt eindrücklich
  die Auswirkungen von Krieg auf Kinder – zwischen Verlust\, Widerstandsk
 raft und dem Wunsch nach einer besseren Zukunft. Mit poetischen Bildern un
 d schonungsloser Ehrlichkeit eröffnet er einen tiefen Einblick in eine of
 t übersehene Realität.\nWie immer gibt es zum Film ein warmes Essen.\n\n
 Die Veranstaltung findet im Rahmen der Reihe „Cine Mir – Kurdische Fil
 me in Freiburg“ statt und wird kuratiert von Mehveş Öztürk & Elif Evi
 n Göksungur.
URL:https://zlev.de/pt/home/events/cine-mir-schildkroeten-koennen-fliegen
CLASS:PUBLIC
END:VEVENT
END:VCALENDAR

