BEGIN:VCALENDAR
VERSION:2.0
PRODID:https://zlev.de
METHOD:PUBLISH
BEGIN:VEVENT
SUMMARY:Aktionstag
UID:page://hcpooplfr20emfah
DTSTAMP:20260423T160849Z
LAST-MODIFIED:20260423T160849Z
SEQUENCE:19
STATUS:CONFIRMED
DTSTART:20260509T080000Z
DTEND:20260509T130000Z
LOCATION:Gemeinschaftsgarten "zusammen gärtnern", Buckweg/ Am Dorfbach Va
 uban, 79111 Freiburg
DESCRIPTION:(image: zg.jpg width: 80%)\nAktionstag im Mai
URL:https://zlev.de/en/home/events/aktionstag-260507
CLASS:PUBLIC
END:VEVENT
END:VCALENDAR

