BEGIN:VCALENDAR
VERSION:2.0
PRODID:https://zlev.de
METHOD:PUBLISH
BEGIN:VEVENT
SUMMARY:"zusammen erzÃ¤hlen" mit GasteerzÃ¤hlerin Soogi Kang
UID:page://TIcxha3jyQziYNkd
DTSTAMP:20260422T043524Z
LAST-MODIFIED:20260422T043524Z
SEQUENCE:0
STATUS:CONFIRMED
DTSTART:20230525T170000Z
DTEND:20230525T190000Z
LOCATION:zuka solicafÃ© im Haus der Jugend, UhlandstraÃŸe 2, 79102 Freibur
 g
DESCRIPTION:(image: ze.jpg width:100%)\nKomm ins ErzÃ¤hlcafÃ© "zusammen er
 zÃ¤hlen" und erzÃ¤hle Geschichten aus deinem eigenen Leben in kleinen Krei
 sen\, hÃ¶re spannende Geschichten von Menschen\, die du noch nie gesehen h
 ast und lausche im Anschluss der koreanischen ErzÃ¤hlerin Soogi Kang. Soog
 i Kang erzÃ¤hlt IYANGI - kurze\, meist humorvolle\, von Mund zu Mund Ã¼ber
 lieferte Geschichten\, die fÃ¼r die koreanische Volkskultur typisch sind. 
 Sie erzÃ¤hlt von unglaublichen Frauen und Heldinnen\, die uns Mut und Hoff
 nung machen\, die uns wieder trÃ¤umen lassen.\nDer Abend wird von den ErzÃ
 ¤hlerinnen Kathinka Marcks und Ami Kal begleitet. Sie helfen dir dabei\, G
 eschichten aus deinem Leben auszuwÃ¤hlen\, und unterstÃ¼tzen Dich\, diese 
 mit den anderen zu teilen.
URL:https://zlev.de/ar/home/events/zusammen-erzaehlen-mit-gasteerzaehlerin
 -soogi-kang
CLASS:PUBLIC
END:VEVENT
END:VCALENDAR

